BEGIN:VCALENDAR
VERSION:2.0
PRODID:-//Zimmerer­innung Leipzig - ECPv6.15.19//NONSGML v1.0//EN
CALSCALE:GREGORIAN
METHOD:PUBLISH
X-WR-CALNAME:Zimmerer­innung Leipzig
X-ORIGINAL-URL:https://www.zimmererinnung-leipzig.de
X-WR-CALDESC:Veranstaltungen für Zimmerer­innung Leipzig
REFRESH-INTERVAL;VALUE=DURATION:PT1H
X-Robots-Tag:noindex
X-PUBLISHED-TTL:PT1H
BEGIN:VTIMEZONE
TZID:Europe/Berlin
BEGIN:DAYLIGHT
TZOFFSETFROM:+0100
TZOFFSETTO:+0200
TZNAME:CEST
DTSTART:20240331T010000
END:DAYLIGHT
BEGIN:STANDARD
TZOFFSETFROM:+0200
TZOFFSETTO:+0100
TZNAME:CET
DTSTART:20241027T010000
END:STANDARD
BEGIN:DAYLIGHT
TZOFFSETFROM:+0100
TZOFFSETTO:+0200
TZNAME:CEST
DTSTART:20250330T010000
END:DAYLIGHT
BEGIN:STANDARD
TZOFFSETFROM:+0200
TZOFFSETTO:+0100
TZNAME:CET
DTSTART:20251026T010000
END:STANDARD
BEGIN:DAYLIGHT
TZOFFSETFROM:+0100
TZOFFSETTO:+0200
TZNAME:CEST
DTSTART:20260329T010000
END:DAYLIGHT
BEGIN:STANDARD
TZOFFSETFROM:+0200
TZOFFSETTO:+0100
TZNAME:CET
DTSTART:20261025T010000
END:STANDARD
END:VTIMEZONE
BEGIN:VEVENT
DTSTART;TZID=Europe/Berlin:20250517T100000
DTEND;TZID=Europe/Berlin:20250517T190000
DTSTAMP:20260422T023831
CREATED:20250721T074325Z
LAST-MODIFIED:20250721T074510Z
UID:7657-1747476000-1747508400@www.zimmererinnung-leipzig.de
SUMMARY:Innungsradtour - 17.05.2025
DESCRIPTION:Am 17. Mai 2025 um 10:00 Uhr starten wir vom Marktplatz in Mutzschen unsere Innungs-Fahrradtour.\nVon dort aus geht´s nach Wermsdorf zum Schloss Hubertusburg\, die nötige Stärkung gibt´s in der Gaststätte am Horstsee\, weiter radeln wir durch den Wermsdorfer Wald zum Albertturm auf dem Colmberg und von da wieder zurück nach Mutzschen. \nAlso packt gute Laune und etwas zu trinken ein. \nWir freuen uns auf euch und einen schönen Ausflug. \nLiebe Grüße \nThorsten Schmidt – Obermeister\nFalk Dossin – Geschäftsführer
URL:https://www.zimmererinnung-leipzig.de/termin/innungsradtour-17-05-2025/
END:VEVENT
END:VCALENDAR