BEGIN:VCALENDAR
VERSION:2.0
PRODID:-//Zimmerer­innung Leipzig - ECPv6.15.19//NONSGML v1.0//EN
CALSCALE:GREGORIAN
METHOD:PUBLISH
X-ORIGINAL-URL:https://www.zimmererinnung-leipzig.de
X-WR-CALDESC:Veranstaltungen für Zimmerer­innung Leipzig
REFRESH-INTERVAL;VALUE=DURATION:PT1H
X-Robots-Tag:noindex
X-PUBLISHED-TTL:PT1H
BEGIN:VTIMEZONE
TZID:Europe/Berlin
BEGIN:DAYLIGHT
TZOFFSETFROM:+0100
TZOFFSETTO:+0200
TZNAME:CEST
DTSTART:20240331T010000
END:DAYLIGHT
BEGIN:STANDARD
TZOFFSETFROM:+0200
TZOFFSETTO:+0100
TZNAME:CET
DTSTART:20241027T010000
END:STANDARD
BEGIN:DAYLIGHT
TZOFFSETFROM:+0100
TZOFFSETTO:+0200
TZNAME:CEST
DTSTART:20250330T010000
END:DAYLIGHT
BEGIN:STANDARD
TZOFFSETFROM:+0200
TZOFFSETTO:+0100
TZNAME:CET
DTSTART:20251026T010000
END:STANDARD
BEGIN:DAYLIGHT
TZOFFSETFROM:+0100
TZOFFSETTO:+0200
TZNAME:CEST
DTSTART:20260329T010000
END:DAYLIGHT
BEGIN:STANDARD
TZOFFSETFROM:+0200
TZOFFSETTO:+0100
TZNAME:CET
DTSTART:20261025T010000
END:STANDARD
END:VTIMEZONE
BEGIN:VEVENT
DTSTART;TZID=Europe/Berlin:20250617T150000
DTEND;TZID=Europe/Berlin:20250617T170000
DTSTAMP:20260422T041832
CREATED:20250721T082039Z
LAST-MODIFIED:20250721T082910Z
UID:7671-1750172400-1750179600@www.zimmererinnung-leipzig.de
SUMMARY:Besichtigung 7-geschossiges Holzhybridhaus am 17.06.2025
DESCRIPTION:Liebe Innungsmitglieder\, \nwir laden Euch zu einer weiteren Baustellenbesichtigung ein. Die Veranstaltung bietet interessierten Holzbaubetrieben die Möglichkeit\, Einblick in den Bauprozess des Neubaus eines siebengeschossigen Holzhybridbaus im Zentrum Nord von Leipzig zu erhalten. Innungsmitglied Mike Hirmer von der ausführenden Zimmerei Hirmer führt über die Baustelle. Die Teilnehmerzahl ist auf 15 Personen begrenzt. Die Teilnahme ist kostenfrei. Ansprechpartner in der Handwerkskammer zu Leipzig ist Sven Börjesson\, Beauftragter für Innovation und Technologie. \nLiebe Grüße \nTorsten Schmidt – Obermeister \nFalk Dossin – Geschäftsführer
URL:https://www.zimmererinnung-leipzig.de/termin/besichtigung-7-geschossiges-holzhybridhaus-am/
LOCATION:Berliner Straße 54\, 04105 Leipzig\, Berliner Straße 54\, Leipzig\, Sachsen\, 04105\, Germany
END:VEVENT
BEGIN:VEVENT
DTSTART;TZID=Europe/Berlin:20250627T170000
DTEND;TZID=Europe/Berlin:20250627T210000
DTSTAMP:20260422T041832
CREATED:20250721T075538Z
LAST-MODIFIED:20250721T075538Z
UID:7661-1751043600-1751058000@www.zimmererinnung-leipzig.de
SUMMARY:Innungsversammlung am 27.06.2025
DESCRIPTION:Liebe Innungsmitglieder\, \nzu unserer nächsten Innungsversammlung mit gemeinsamen Grillen und\nFirmenbesichtigung laden wir alle recht herzlich ein\, inklusive Partner.\nTermin: Freitag\, 27.06.2025\, Beginn 17:00 Uhr\nOrt: Scheune der Firma Elektro-Fink GmbH\nDommitzscher Straße 28\, 04860 Weidenhain \nTagesordnung: \n\nBegrüßung und Eröffnung durch den Obermeister Thorsten Schmidt\nAuswertung Fahrradausflug der Innung vom Juni 2025\nVorplanung Tag des Handwerks am 20.09.2025\nSonstiges\nFirmenbesichtigung\n\nWir bitten um eine kurze Rückmeldung. \nThorsten Schmidt – Obermeister \nFalk Dossin – Geschäftsführer
URL:https://www.zimmererinnung-leipzig.de/termin/innungsversammlung-am-27-06-2025/
LOCATION:Dommitzscher Straße 28\, 04860 Weidenhain\, Dommitzscher Straße 28\, Weidenhain\, Sachsen\, 04860\, Germany
END:VEVENT
END:VCALENDAR