BEGIN:VCALENDAR
VERSION:2.0
PRODID:-//Zimmerer­innung Leipzig - ECPv6.15.19//NONSGML v1.0//EN
CALSCALE:GREGORIAN
METHOD:PUBLISH
X-WR-CALNAME:Zimmerer­innung Leipzig
X-ORIGINAL-URL:https://www.zimmererinnung-leipzig.de
X-WR-CALDESC:Veranstaltungen für Zimmerer­innung Leipzig
REFRESH-INTERVAL;VALUE=DURATION:PT1H
X-Robots-Tag:noindex
X-PUBLISHED-TTL:PT1H
BEGIN:VTIMEZONE
TZID:Europe/Berlin
BEGIN:DAYLIGHT
TZOFFSETFROM:+0100
TZOFFSETTO:+0200
TZNAME:CEST
DTSTART:20240331T010000
END:DAYLIGHT
BEGIN:STANDARD
TZOFFSETFROM:+0200
TZOFFSETTO:+0100
TZNAME:CET
DTSTART:20241027T010000
END:STANDARD
BEGIN:DAYLIGHT
TZOFFSETFROM:+0100
TZOFFSETTO:+0200
TZNAME:CEST
DTSTART:20250330T010000
END:DAYLIGHT
BEGIN:STANDARD
TZOFFSETFROM:+0200
TZOFFSETTO:+0100
TZNAME:CET
DTSTART:20251026T010000
END:STANDARD
BEGIN:DAYLIGHT
TZOFFSETFROM:+0100
TZOFFSETTO:+0200
TZNAME:CEST
DTSTART:20260329T010000
END:DAYLIGHT
BEGIN:STANDARD
TZOFFSETFROM:+0200
TZOFFSETTO:+0100
TZNAME:CET
DTSTART:20261025T010000
END:STANDARD
END:VTIMEZONE
BEGIN:VEVENT
DTSTART;TZID=Europe/Berlin:20251201T080000
DTEND;TZID=Europe/Berlin:20251201T100000
DTSTAMP:20260422T132150
CREATED:20251014T095007Z
LAST-MODIFIED:20251014T095007Z
UID:7794-1764576000-1764583200@www.zimmererinnung-leipzig.de
SUMMARY:Pflichtseminar Arbeitssicherheit - 01.12.2025
DESCRIPTION:Hiermit laden wir Sie für das jährliche Arbeitsschutzpflichtseminar ein\, das Sie als Firma mit\nIhren Mitarbeitern durchführen müssen. \nDieses Seminar ist die von der BG geforderte Pflichtunterweisung\, die Sie mit Ihren Mitarbeitern jedes Jahr machen müssen. \nWir haben uns als Innung entschlossen\, dieses Seminar für alle Innungsmitglieder kostenfrei\ndurchzuführen. \nDas Seminar ist für Ihre Gesellen\, Arbeitnehmer und Auszubildende ausgelegt. \n  \nANMELDEN
URL:https://www.zimmererinnung-leipzig.de/termin/pflichtseminar-arbeitssicherheit-01-12-2025/
LOCATION:Kreis­handwerker­schaft Leipzig\, Bitterfelder Straße 7\, Leipzig\, Sachsen\, 04129\, Deutschland
ATTACH;FMTTYPE=image/jpeg:https://www.zimmererinnung-leipzig.de/wp-content/uploads/2017/08/LogoKHSText-e1503564486176.jpg
ORGANIZER;CN="Kreishandwerker&shy%3Bschaft Leipzig":MAILTO:info@khs-leipzig.de
END:VEVENT
END:VCALENDAR